BEGIN:VCALENDAR
VERSION:2.0
PRODID:-//wp-events-plugin.com//7.2.3.1//EN
TZID:Asia/Taipei
X-WR-TIMEZONE:Asia/Taipei
BEGIN:VEVENT
UID:152@dlc.ntu.edu.tw
DTSTART;TZID=Asia/Taipei:20241018T000000
DTEND;TZID=Asia/Taipei:20241115T000000
DTSTAMP:20241018T093252Z
URL:https://www.dlc.ntu.edu.tw/events/freshmen2024/
SUMMARY:大學部新生學習經驗問卷調查 Freshmen Learning Experienc
 e Survey
DESCRIPTION:※ 問卷填答網址 Survey link：https://eform.cc.ntu.edu.t
 w/DLCU1\n※大學部新生學習經驗問卷介紹專頁 Homepage：https
 ://www.dlc.ntu.edu.tw/2024/10/18/freshmen2024/
END:VEVENT
BEGIN:VTIMEZONE
TZID:Asia/Taipei
X-LIC-LOCATION:Asia/Taipei
BEGIN:STANDARD
DTSTART:20231019T000000
TZOFFSETFROM:+0800
TZOFFSETTO:+0800
TZNAME:CST
END:STANDARD
END:VTIMEZONE
END:VCALENDAR